BEGIN:VCALENDAR
VERSION:2.0
CREATED:20260424T064452Z
PRODID:-//StandardAero\, Inc./Equisolve Calendar v1.0//EN
METHOD:PUBLISH
BEGIN:VEVENT
UID:bfe4c136285dfb23cb380c9023964658
DTSTAMP:20260425T130418Z
DTSTART:20260507T210000Z
DTEND:20260507T220000Z
SUMMARY:First Quarter 2026 Earnings Call
DESCRIPTION:First Quarter 2026 Earnings Call\nDate: May 7\, 2026 5:00 pm EDT\nWebcast: https://event.choruscall.com/mediaframe/webcast.html?webcastid=qmGjHj2X
END:VEVENT
END:VCALENDAR
